BEGIN:VCALENDAR
VERSION:2.0
PRODID:icalendar-ruby
CALSCALE:GREGORIAN
METHOD:PUBLISH
BEGIN:VEVENT
DTSTAMP:20260423T083920Z
UID:812-30103@fraserlands.ca
DTSTART:20260419T170000Z
DTEND:20260419T181500Z
CLASS:PUBLIC
CREATED:20260419T150204
DESCRIPTION:We will be having a combined worship service on Sunday April 19
 th at 10am with the whole church family.\nMessage: "The Lord's Vision for 
 FLC"\nVerses: Matthew 28:18-20\nSpeaker: Pastor Abe Chan\nThe combined ser
 vice will be in person in the Sanctuary + online via live stream (with Chi
 nese subtitles). You will be able to view it on this page or on Youtube. 
 \nIf you are joining us in person\, please note that the youth and childre
 n will be joining the adults from the English\, Cantonese\, and Mandarin c
 ongregations in the Sanctuary. 
LAST-MODIFIED:20260419T150204
LOCATION:Sanctuary
SUMMARY:Combined Worship Service
URL;VALUE=URI:https://www.fraserlandschurch.ca/events/combined-worship-serv
 ice--812/2026-04-19
ATTACH;FILENAME=flc-AGM-Sunday-Service-2026-1500x784.png;FMTTYPE=image/png:
 https://dq5pwpg1q8ru0.cloudfront.net/2026/04/07/22/23/43/f88b42ba-fe0c-42c
 3-b7e3-7305a7ed3d62/flc-AGM-Sunday-Service-2026-1500x784.png
END:VEVENT
END:VCALENDAR
